BEGIN:VCALENDAR
VERSION:2.0
PRODID:Park City, UT Calendar Creator
METHOD:PUBLISH
BEGIN:VEVENT
DTSTAMP:20180428T114522
DTSTART:20180430T143000
DTEND:20180430T163000
SUMMARY:Special Meeting - Special Events Advisory Committee
DESCRIPTION:<a href="https://www.parkcity.gov/home/showpublisheddocument/51456/636605124505800000" target="_blank">AGENDA</a>
X-ALT-DESC;FMTTYPE=text/html:<a href="https://www.parkcity.gov/home/showpublisheddocument/51456/636605124505800000" target="_blank">AGENDA</a>
LOCATION:City Council Chambers\, 445 Marsac Ave Park City\, Utah 84060
CLASS:PUBLIC
END:VEVENT
END:VCALENDAR
