BEGIN:VCALENDAR
VERSION:2.0
PRODID:Park City, UT Calendar Creator
METHOD:PUBLISH
BEGIN:VEVENT
DTSTAMP:20180527T190413
DTSTART:20180730T000000
DTEND:20180803T235900
SUMMARY:Basic Skating Camp
DESCRIPTION:
X-ALT-DESC;FMTTYPE=text/html:
LOCATION:Park City Ice Arena\, 600 Gillmor Way Park City\, Utah 84060
CLASS:PUBLIC
END:VEVENT
END:VCALENDAR
