BEGIN:VCALENDAR
VERSION:2.0
PRODID:Park City, UT Calendar Creator
METHOD:PUBLISH
BEGIN:VEVENT
DTSTAMP:20180615T151407
DTSTART:20180717T090000
DTEND:20180717T100000
SUMMARY:Coffee with Council
DESCRIPTION:
X-ALT-DESC;FMTTYPE=text/html:
LOCATION:Lucky Ones Coffe\, Park City Library\, 1255 Park Avenue Park City\, Utah 84060
CLASS:PUBLIC
END:VEVENT
END:VCALENDAR
