BEGIN:VCALENDAR
VERSION:2.0
PRODID:Park City, UT Calendar Creator
METHOD:PUBLISH
BEGIN:VEVENT
DTSTAMP:20180709T165611
DTSTART:20180713T000000
DTEND:20180713T235900
SUMMARY:UAV Flight
DESCRIPTION:<p>Location: Park City Golf Course, Rail Trail, Armstrong Trail</p><p>Date: 7/13/18</p><p>Duration: All Day</p><p>Purpose: Back Nine Subdivision vantage point photography</p><p>Contact: Drone@parkcity.org</p>
X-ALT-DESC;FMTTYPE=text/html:<p>Location: Park City Golf Course, Rail Trail, Armstrong Trail</p><p>Date: 7/13/18</p><p>Duration: All Day</p><p>Purpose: Back Nine Subdivision vantage point photography</p><p>Contact: Drone@parkcity.org</p>
LOCATION:
CLASS:PUBLIC
END:VEVENT
END:VCALENDAR
