BEGIN:VCALENDAR
VERSION:2.0
PRODID:Park City, UT Calendar Creator
METHOD:PUBLISH
BEGIN:VEVENT
DTSTAMP:20180806T154713
DTSTART:20180808T000000
DTEND:20180808T235900
SUMMARY:UAV Flight
DESCRIPTION:<p>Location: Bonanza Flat</p><p>Time: 12-2PM</p><p>Purpose: Aerial imagery of current trailheads</p><p>Contact: Drone@parkcity.org</p>
X-ALT-DESC;FMTTYPE=text/html:<p>Location: Bonanza Flat</p><p>Time: 12-2PM</p><p>Purpose: Aerial imagery of current trailheads</p><p>Contact: Drone@parkcity.org</p>
LOCATION:
CLASS:PUBLIC
END:VEVENT
END:VCALENDAR
