BEGIN:VCALENDAR
VERSION:2.0
PRODID:Park City, UT Calendar Creator
METHOD:PUBLISH
BEGIN:VEVENT
DTSTAMP:20180809T144333
DTSTART:20180810T000000
DTEND:20180810T235900
SUMMARY:UAV Flight
DESCRIPTION:<p>Location: McPolin Barn</p><p>Timeframe: All Day</p><p>Purpose: Land survey/imagery</p><p>Contact: Drone@parkcity.org</p>
X-ALT-DESC;FMTTYPE=text/html:<p>Location: McPolin Barn</p><p>Timeframe: All Day</p><p>Purpose: Land survey/imagery</p><p>Contact: Drone@parkcity.org</p>
LOCATION:
CLASS:PUBLIC
END:VEVENT
END:VCALENDAR
