BEGIN:VCALENDAR
VERSION:2.0
PRODID:Park City, UT Calendar Creator
METHOD:PUBLISH
BEGIN:VEVENT
DTSTAMP:20180921T113015
DTSTART:20180922T140000
DTEND:20180922T160000
SUMMARY:McPolin Farm Scarecrow Festival
DESCRIPTION:<p>Celebrate the start of Fall with the McPolin Farm Scarecrow Festival - a Park City tradition!&nbsp;</p><p><strong>Event Tickets:</strong>  $40 tickets are good for a family of four (two adults and two kids) andinclude one scarecrow support along the Farm Trail (first come, firstserved), a display packet, and pumpkin and face painting, games andrefreshments at the event on Saturday, September 22 from 2:00-4:00 p.m. Straw will be provided at the event to fill yourscarecrow, as well as a baggie and index card to identify your scarecrow and zipties and twine  to attach your scarecrow to the support. Pleasebring your own body, head, clothing and accessories, and anything elseyou need to build your scarecrow. </p><p><strong>Non-Event Tickets: </strong>$20 tickets include one scarecrow support along the Farm Trail (first come, first served) and a display packet (bag with twine and zip ties for you to attach your scarecrow to the support and a name card to identify your scarecrow). It is not required that scarecrows are put up by Saturday, September 22 - they may be added anytime after that date, starting Monday, September 23.&nbsp;  If you put them up after Saturday, you will need to provide your own stuffing. We are able to provide hay for filling your scarecrow on Saturday, September 22 from 2:00-4:00 p.m. Please do not use staples, nails, tape or any type of glue on fence.</p><p>&nbsp;*We encourage you to return to take down your scarecrow on or just before Friday, October 19. Committee volunteers will be taking down all remaining scarecrows on Monday, October 22 in the early afternoon. </p><p>For more information and to purchase tickets, visit PC MARC's event page<strong> <a href="https://onlinereg.parkcityrecreation.org/wbwsc/webtrac.wsc/splash.html?InterfaceParameter=WebTrac_1" target="_blank">here</a>. </strong></p>
X-ALT-DESC;FMTTYPE=text/html:<p>Celebrate the start of Fall with the McPolin Farm Scarecrow Festival - a Park City tradition!&nbsp;</p><p><strong>Event Tickets:</strong>  $40 tickets are good for a family of four (two adults and two kids) andinclude one scarecrow support along the Farm Trail (first come, firstserved), a display packet, and pumpkin and face painting, games andrefreshments at the event on Saturday, September 22 from 2:00-4:00 p.m. Straw will be provided at the event to fill yourscarecrow, as well as a baggie and index card to identify your scarecrow and zipties and twine  to attach your scarecrow to the support. Pleasebring your own body, head, clothing and accessories, and anything elseyou need to build your scarecrow. </p><p><strong>Non-Event Tickets: </strong>$20 tickets include one scarecrow support along the Farm Trail (first come, first served) and a display packet (bag with twine and zip ties for you to attach your scarecrow to the support and a name card to identify your scarecrow). It is not required that scarecrows are put up by Saturday, September 22 - they may be added anytime after that date, starting Monday, September 23.&nbsp;  If you put them up after Saturday, you will need to provide your own stuffing. We are able to provide hay for filling your scarecrow on Saturday, September 22 from 2:00-4:00 p.m. Please do not use staples, nails, tape or any type of glue on fence.</p><p>&nbsp;*We encourage you to return to take down your scarecrow on or just before Friday, October 19. Committee volunteers will be taking down all remaining scarecrows on Monday, October 22 in the early afternoon. </p><p>For more information and to purchase tickets, visit PC MARC's event page<strong> <a href="https://onlinereg.parkcityrecreation.org/wbwsc/webtrac.wsc/splash.html?InterfaceParameter=WebTrac_1" target="_blank">here</a>. </strong></p>
LOCATION:McPolin Farm\, 3000 Hwy 224 Park City\, Utah 84060
CLASS:PUBLIC
END:VEVENT
END:VCALENDAR
