BEGIN:VCALENDAR
VERSION:2.0
PRODID:Park City, UT Calendar Creator
METHOD:PUBLISH
BEGIN:VEVENT
DTSTAMP:20180926T145449
DTSTART:20180927T000000
DTEND:20180927T235900
SUMMARY:UAV Flight
DESCRIPTION:<p>Location: Armstrong, Quarry Mountain, Richards Ranch, Willow Ranch, Round Valley</p><p>Date: 9/27/18</p><p>Duration: All Day</p><p>Purpose: Aerial imagery</p><p>Contact: Drone@parkcity.org</p>
X-ALT-DESC;FMTTYPE=text/html:<p>Location: Armstrong, Quarry Mountain, Richards Ranch, Willow Ranch, Round Valley</p><p>Date: 9/27/18</p><p>Duration: All Day</p><p>Purpose: Aerial imagery</p><p>Contact: Drone@parkcity.org</p>
LOCATION:
CLASS:PUBLIC
END:VEVENT
END:VCALENDAR
