BEGIN:VCALENDAR
VERSION:2.0
PRODID:Park City, UT Calendar Creator
METHOD:PUBLISH
BEGIN:VEVENT
DTSTAMP:20181005T164311
DTSTART:20181013T000000
DTEND:20181013T235900
SUMMARY:Community Meet-Up with Mayor Andy
DESCRIPTION:<p style="text-align: center;"></p>
X-ALT-DESC;FMTTYPE=text/html:<p style="text-align: center;"></p>
LOCATION:McPolin Farm\, 3000 Hwy 224 Park City\, Utah 84060
CLASS:PUBLIC
END:VEVENT
END:VCALENDAR
