BEGIN:VCALENDAR
VERSION:2.0
PRODID:Park City, UT Calendar Creator
METHOD:PUBLISH
BEGIN:VEVENT
DTSTAMP:20181019T095851
DTSTART:20181019T000000
DTEND:20181019T235900
SUMMARY:UAV Flight
DESCRIPTION:<p>Location:</p><p>Date:10/19/18Duration: All day</p><p>Purpose: Open Space survey</p><p>Contact: Drone@parkcity.org</p>
X-ALT-DESC;FMTTYPE=text/html:<p>Location:</p><p>Date:10/19/18Duration: All day</p><p>Purpose: Open Space survey</p><p>Contact: Drone@parkcity.org</p>
LOCATION:
CLASS:PUBLIC
END:VEVENT
END:VCALENDAR
