BEGIN:VCALENDAR
VERSION:2.0
PRODID:Park City, UT Calendar Creator
METHOD:PUBLISH
BEGIN:VEVENT
DTSTAMP:20181116T150308
DTSTART:20181120T000000
DTEND:20181120T235900
SUMMARY:Board of Adjustment Meeting
DESCRIPTION:<p><a href="https://www.parkcity.gov/home/showpublisheddocument/58544" target="_blank">BOA Legal Notice 11.20.18</a><br><a href="https://www.parkcity.gov/home/showpublisheddocument/59574" target="_blank">BOA Amended Legal Notice 11.20.18 </a><br><a href="https://www.parkcity.gov/home/showpublisheddocument/59576" target="_blank">11.20.18 BOA Agenda</a><br><a href="https://www.parkcity.gov/home/showpublisheddocument/59578" target="_blank">11.20.18 BOA Packet</a></p><p>&nbsp;</p><p>&nbsp;</p><p>&nbsp;</p><p>Evening parking in the North Marsac lot and China Bridge parking garage are now paid parking. Please either park in the City Hall South parking lot (no charge) or the China Bridge garage and we will validate your parking ticket at the meeting. The North Marsac lot has an hourly parking fee after 5 pm, with no validation.&nbsp;</p>
X-ALT-DESC;FMTTYPE=text/html:<p><a href="https://www.parkcity.gov/home/showpublisheddocument/58544" target="_blank">BOA Legal Notice 11.20.18</a><br><a href="https://www.parkcity.gov/home/showpublisheddocument/59574" target="_blank">BOA Amended Legal Notice 11.20.18 </a><br><a href="https://www.parkcity.gov/home/showpublisheddocument/59576" target="_blank">11.20.18 BOA Agenda</a><br><a href="https://www.parkcity.gov/home/showpublisheddocument/59578" target="_blank">11.20.18 BOA Packet</a></p><p>&nbsp;</p><p>&nbsp;</p><p>&nbsp;</p><p>Evening parking in the North Marsac lot and China Bridge parking garage are now paid parking. Please either park in the City Hall South parking lot (no charge) or the China Bridge garage and we will validate your parking ticket at the meeting. The North Marsac lot has an hourly parking fee after 5 pm, with no validation.&nbsp;</p>
LOCATION:
CLASS:PUBLIC
END:VEVENT
END:VCALENDAR
