BEGIN:VCALENDAR
VERSION:2.0
PRODID:Park City, UT Calendar Creator
METHOD:PUBLISH
BEGIN:VEVENT
DTSTAMP:20181205T165520
DTSTART:20181210T000000
DTEND:20181210T235900
SUMMARY:UAV Flight
DESCRIPTION:<p>Location: Round Valley</p><p>Time: All day</p><p>Purpose: Trails and Open space imagery</p><p>Contact: Drone@parkcity.org&nbsp;</p>
X-ALT-DESC;FMTTYPE=text/html:<p>Location: Round Valley</p><p>Time: All day</p><p>Purpose: Trails and Open space imagery</p><p>Contact: Drone@parkcity.org&nbsp;</p>
LOCATION:
CLASS:PUBLIC
END:VEVENT
END:VCALENDAR
