BEGIN:VCALENDAR
VERSION:2.0
PRODID:Park City, UT Calendar Creator
METHOD:PUBLISH
BEGIN:VEVENT
DTSTAMP:20181206T120920
DTSTART:20181226T000000
DTEND:20181226T235900
SUMMARY:Planning Commission Meeting - CANCELLED
DESCRIPTION:<a href="https://www.parkcity.gov/home/showpublisheddocument/59654/636796949559230000" target="_blank">PC Legal Notice CANCELLED 12.6.18</a>
X-ALT-DESC;FMTTYPE=text/html:<a href="https://www.parkcity.gov/home/showpublisheddocument/59654/636796949559230000" target="_blank">PC Legal Notice CANCELLED 12.6.18</a>
LOCATION:
CLASS:PUBLIC
END:VEVENT
END:VCALENDAR
