BEGIN:VCALENDAR
VERSION:2.0
PRODID:Park City, UT Calendar Creator
METHOD:PUBLISH
BEGIN:VEVENT
DTSTAMP:20190322T102938
DTSTART:20190116T170000
DTEND:20190116T235900
SUMMARY:Historic Preservation Board Meeting
DESCRIPTION:<p><a href="https://www.parkcity.gov/home/showpublisheddocument/60734/636825397962570000" target="_blank">HPB Legal Notice 1.16.19</a><br><a href="https://www.parkcity.gov/home/showpublisheddocument/60745/636827119042070000" target="_blank">HPB Legal Notice 1.16.19 Amended</a><br><a href="https://www.parkcity.gov/home/showpublisheddocument/60793/636838429673730000" target="_blank">HPB Agenda 1.16.19</a><br><a href="https://www.parkcity.gov/home/showpublisheddocument/60795/636838430117630000" target="_blank">HPB Packet 1.16.19</a><br><a href="https://www.parkcity.gov/home/showpublisheddocument/61973/636888473250700000" target="_blank">HPB Minutes 1.16.19</a></p>
X-ALT-DESC;FMTTYPE=text/html:<p><a href="https://www.parkcity.gov/home/showpublisheddocument/60734/636825397962570000" target="_blank">HPB Legal Notice 1.16.19</a><br><a href="https://www.parkcity.gov/home/showpublisheddocument/60745/636827119042070000" target="_blank">HPB Legal Notice 1.16.19 Amended</a><br><a href="https://www.parkcity.gov/home/showpublisheddocument/60793/636838429673730000" target="_blank">HPB Agenda 1.16.19</a><br><a href="https://www.parkcity.gov/home/showpublisheddocument/60795/636838430117630000" target="_blank">HPB Packet 1.16.19</a><br><a href="https://www.parkcity.gov/home/showpublisheddocument/61973/636888473250700000" target="_blank">HPB Minutes 1.16.19</a></p>
LOCATION:
CLASS:PUBLIC
END:VEVENT
END:VCALENDAR
