BEGIN:VCALENDAR
VERSION:2.0
PRODID:Park City, UT Calendar Creator
METHOD:PUBLISH
BEGIN:VEVENT
DTSTAMP:20190118T173128
DTSTART:20190123T173000
DTEND:20190123T205900
SUMMARY:Planning Commission Meeting
DESCRIPTION:<a href="https://www.parkcity.gov/home/showpublisheddocument/60736/636825418638270000" target="_blank">PC Legal Notice 1.23.19</a><br><a href="https://www.parkcity.gov/home/showpublisheddocument/60783/636834233031200000" target="_blank">PC Amended Legal Notice 1.23.19</a><br><a href="https://docs.google.com/gview?url=https%3A%2F%2Fgranicus_production_attachments.s3.amazonaws.com%2Fparkcity%2F2d36f248357bf7188e9d6ad511920b470.pdf&amp;embedded=true" target="_blank">PC Agenda 1.23.19</a><br><a href="https://d3n9y02raazwpg.cloudfront.net/parkcity/a0914139-f8e5-11e8-9afa-0050569183fa-7bade77c-f812-40cc-97ac-cabf6e681fd9-1547857791.pdf" target="_blank">PC Packet 1.23.19</a>
X-ALT-DESC;FMTTYPE=text/html:<a href="https://www.parkcity.gov/home/showpublisheddocument/60736/636825418638270000" target="_blank">PC Legal Notice 1.23.19</a><br><a href="https://www.parkcity.gov/home/showpublisheddocument/60783/636834233031200000" target="_blank">PC Amended Legal Notice 1.23.19</a><br><a href="https://docs.google.com/gview?url=https%3A%2F%2Fgranicus_production_attachments.s3.amazonaws.com%2Fparkcity%2F2d36f248357bf7188e9d6ad511920b470.pdf&amp;embedded=true" target="_blank">PC Agenda 1.23.19</a><br><a href="https://d3n9y02raazwpg.cloudfront.net/parkcity/a0914139-f8e5-11e8-9afa-0050569183fa-7bade77c-f812-40cc-97ac-cabf6e681fd9-1547857791.pdf" target="_blank">PC Packet 1.23.19</a>
LOCATION:
CLASS:PUBLIC
END:VEVENT
END:VCALENDAR
