BEGIN:VCALENDAR
VERSION:2.0
PRODID:Park City, UT Calendar Creator
METHOD:PUBLISH
BEGIN:VEVENT
DTSTAMP:20190111T123525
DTSTART:20190215T180000
DTEND:20190215T210000
SUMMARY:Full Moon Snowshoe at the McPolin Farm
DESCRIPTION:<p>This event includes a delicious dinner and Walt Evans band for your listening and dancing pleasure. The evening ends with a full moon snowshoe tour for beginners, and intermediate/advanced, all for $30 per person. Snowshoes provided as needed. 6:00 p.m. until the cow flies over the moon. Dinner will be served at 6:30 p.m., music until 8:30 then it's out the door to snowshoe.</p><p>Tickets on sale January 11th at 5 p.m. here: <a href="https://onlinereg.parkcityrecreation.org/wbwsc/webtrac.wsc/search.html?display=detail&amp;FMID=36538&amp;Module=PST" target="_blank">https://onlinereg.parkcityrecreation.org/wbwsc/webtrac.wsc/search.html?display=detail&amp;FMID=36538&amp;Module=PST.</a></p><p>Questions? Call or email<a href="mailto:&#109;&#105;&#110;&#100;&#97;&#46;&#115;&#116;&#111;&#99;&#107;&#100;&#97;&#108;&#101;&#64;&#112;&#97;&#114;&#107;&#99;&#105;&#116;&#121;&#46;&#111;&#114;&#103;"> Minda</a>, 435.615.5186.</p>
X-ALT-DESC;FMTTYPE=text/html:<p>This event includes a delicious dinner and Walt Evans band for your listening and dancing pleasure. The evening ends with a full moon snowshoe tour for beginners, and intermediate/advanced, all for $30 per person. Snowshoes provided as needed. 6:00 p.m. until the cow flies over the moon. Dinner will be served at 6:30 p.m., music until 8:30 then it's out the door to snowshoe.</p><p>Tickets on sale January 11th at 5 p.m. here: <a href="https://onlinereg.parkcityrecreation.org/wbwsc/webtrac.wsc/search.html?display=detail&amp;FMID=36538&amp;Module=PST" target="_blank">https://onlinereg.parkcityrecreation.org/wbwsc/webtrac.wsc/search.html?display=detail&amp;FMID=36538&amp;Module=PST.</a></p><p>Questions? Call or email<a href="mailto:&#109;&#105;&#110;&#100;&#97;&#46;&#115;&#116;&#111;&#99;&#107;&#100;&#97;&#108;&#101;&#64;&#112;&#97;&#114;&#107;&#99;&#105;&#116;&#121;&#46;&#111;&#114;&#103;"> Minda</a>, 435.615.5186.</p>
LOCATION:McPolin Farm\, 3000 Hwy 224 Park City\, Utah 84060
CLASS:PUBLIC
END:VEVENT
END:VCALENDAR
