BEGIN:VCALENDAR
VERSION:2.0
PRODID:Park City, UT Calendar Creator
METHOD:PUBLISH
BEGIN:VEVENT
DTSTAMP:20190124T085854
DTSTART:20190206T083000
DTEND:20190206T161500
SUMMARY:Leadership 101
DESCRIPTION:<p>Leadership 101 is Leadership Park City's annual seminar introducing attendees to City and County organizations and their initiatives. Leadership 101 is open to anyone interested in learning more about Park City and Summit County.&nbsp;</p><p>Wednesday, February 6, 2019</p><p>IHC Park City Hospital - Blair Education Center</p><p>8:30 a.m. - 4:15 p.m.</p><p>$40 registration includes lunch and snacks. More information and registration <a href="https://www.parkcity.org/departments/leadership-park-city/leadership-101/-fsiteid-1" target="_blank"><span style="text-decoration: underline;"><strong>HERE</strong></span></a>.</p><p>We hope to see you there!</p><br>
X-ALT-DESC;FMTTYPE=text/html:<p>Leadership 101 is Leadership Park City's annual seminar introducing attendees to City and County organizations and their initiatives. Leadership 101 is open to anyone interested in learning more about Park City and Summit County.&nbsp;</p><p>Wednesday, February 6, 2019</p><p>IHC Park City Hospital - Blair Education Center</p><p>8:30 a.m. - 4:15 p.m.</p><p>$40 registration includes lunch and snacks. More information and registration <a href="https://www.parkcity.org/departments/leadership-park-city/leadership-101/-fsiteid-1" target="_blank"><span style="text-decoration: underline;"><strong>HERE</strong></span></a>.</p><p>We hope to see you there!</p><br>
LOCATION:Blair Education Center at Park City Hospital\, 900 Round Valley Drive Park City\, Utah 84060
CLASS:PUBLIC
END:VEVENT
END:VCALENDAR
