BEGIN:VCALENDAR
VERSION:2.0
PRODID:Park City, UT Calendar Creator
METHOD:PUBLISH
BEGIN:VEVENT
DTSTAMP:20190307T100152
DTSTART:20190312T170000
DTEND:20190312T183000
SUMMARY:Spring Projects Open House
DESCRIPTION:<p><p style="text-align: left;">&nbsp;SAVE THE DATE for the City's Spring Projects Open House on Tuesday, March 12 at 5:00 p.m. Stay tuned for more details regarding specific projects and plans that staff will be sharing. This is a great opportunity to connect with the community-- we hope to see you there!</p><p style="text-align: center;"><a href="https://www.parkcity.gov/home/showpublisheddocument/61923/636875494435370000" target="_blank"><p style="text-align: center;"><p style="text-align: center;"><p style="text-align: center;"></p></p></p></a></p></p>
X-ALT-DESC;FMTTYPE=text/html:<p><p style="text-align: left;">&nbsp;SAVE THE DATE for the City's Spring Projects Open House on Tuesday, March 12 at 5:00 p.m. Stay tuned for more details regarding specific projects and plans that staff will be sharing. This is a great opportunity to connect with the community-- we hope to see you there!</p><p style="text-align: center;"><a href="https://www.parkcity.gov/home/showpublisheddocument/61923/636875494435370000" target="_blank"><p style="text-align: center;"><p style="text-align: center;"><p style="text-align: center;"></p></p></p></a></p></p>
LOCATION:Library Community Room\, 1255 Park Avenue Park City\, Utah 84060
CLASS:PUBLIC
END:VEVENT
END:VCALENDAR
