BEGIN:VCALENDAR
VERSION:2.0
PRODID:Park City, UT Calendar Creator
METHOD:PUBLISH
BEGIN:VEVENT
DTSTAMP:20190305T115548
DTSTART:20190318T190000
DTEND:20190318T210000
SUMMARY:Community Leadership Lecture
DESCRIPTION:<p style="text-align: left;">Join Leadership Park City for the 25th annual Community Leadership Lecture with keynote speaker, Rob Katz, Chairman &amp; CEO of Vail Resorts. <br><br>Katz will share his passion for leadership development and discuss how a strong leadership culture at Vail Resorts is an essential component of the Company’s growth and success. His remarks will be followed by a Q&amp;A with Myles Rademan, and then opened to questions from the audience. <br><br>The Community Leadership Lecture is free and open to the public.  For more information, please contact Minda Stockdale at <a href="mailto:&#109;&#105;&#110;&#100;&#97;&#46;&#115;&#116;&#111;&#99;&#107;&#100;&#97;&#108;&#101;&#64;&#112;&#97;&#114;&#107;&#99;&#105;&#116;&#121;&#46;&#111;&#114;&#103;">minda.stockdale@parkcity.org</a> or 435.615.5186. </p><p style="text-align: center;"></p>
X-ALT-DESC;FMTTYPE=text/html:<p style="text-align: left;">Join Leadership Park City for the 25th annual Community Leadership Lecture with keynote speaker, Rob Katz, Chairman &amp; CEO of Vail Resorts. <br><br>Katz will share his passion for leadership development and discuss how a strong leadership culture at Vail Resorts is an essential component of the Company’s growth and success. His remarks will be followed by a Q&amp;A with Myles Rademan, and then opened to questions from the audience. <br><br>The Community Leadership Lecture is free and open to the public.  For more information, please contact Minda Stockdale at <a href="mailto:&#109;&#105;&#110;&#100;&#97;&#46;&#115;&#116;&#111;&#99;&#107;&#100;&#97;&#108;&#101;&#64;&#112;&#97;&#114;&#107;&#99;&#105;&#116;&#121;&#46;&#111;&#114;&#103;">minda.stockdale@parkcity.org</a> or 435.615.5186. </p><p style="text-align: center;"></p>
LOCATION:Park City Library - Santy Auditorium\, 1255 Park Ave Park City\, UT\, Utah 84060
CLASS:PUBLIC
END:VEVENT
END:VCALENDAR
