BEGIN:VCALENDAR
VERSION:2.0
PRODID:Park City, UT Calendar Creator
METHOD:PUBLISH
BEGIN:VEVENT
DTSTAMP:20190319T111858
DTSTART:20190327T183000
DTEND:20190327T203000
SUMMARY:Park City Living Future Symposium
DESCRIPTION:<p><strong><a href="https://www.parkcity.gov/home/showpublisheddocument/61957/636885901721030000" target="_blank">Park City Living Future Symposium</a></strong></p><p>The Living Building Challenge is the world’s most rigorous standard for buildings. People from around the world use this regenerative design framework to create spaces that, like a flower, give more than they take.</p><p>Join us for a presentation and community discussion tailored to the unique nature of Park City to learn about how you can help support the transformation toward communities that are socially just, culturally rich, and ecologically restorative.</p><p>Date: Wednesday, March 27<br>Time: 6:30-8:30 p.m.<br>Place: Jim Santy Auditorium at Park City Library</p><p><a href="https://www.eventbrite.com/e/park-city-living-future-symposium-tickets-57417160272">RSVP here</a></p><p><p style="text-align: center;"></p></p>
X-ALT-DESC;FMTTYPE=text/html:<p><strong><a href="https://www.parkcity.gov/home/showpublisheddocument/61957/636885901721030000" target="_blank">Park City Living Future Symposium</a></strong></p><p>The Living Building Challenge is the world’s most rigorous standard for buildings. People from around the world use this regenerative design framework to create spaces that, like a flower, give more than they take.</p><p>Join us for a presentation and community discussion tailored to the unique nature of Park City to learn about how you can help support the transformation toward communities that are socially just, culturally rich, and ecologically restorative.</p><p>Date: Wednesday, March 27<br>Time: 6:30-8:30 p.m.<br>Place: Jim Santy Auditorium at Park City Library</p><p><a href="https://www.eventbrite.com/e/park-city-living-future-symposium-tickets-57417160272">RSVP here</a></p><p><p style="text-align: center;"></p></p>
LOCATION:Park City Library - Santy Auditorium\, 1255 Park Ave Park City\, UT\, Utah 84060
CLASS:PUBLIC
END:VEVENT
END:VCALENDAR
