BEGIN:VCALENDAR
VERSION:2.0
PRODID:Park City, UT Calendar Creator
METHOD:PUBLISH
BEGIN:VEVENT
DTSTAMP:20190402T092407
DTSTART:20190406T120000
DTEND:20190406T133000
SUMMARY:Drop-IN Sledge Hockey
DESCRIPTION:
X-ALT-DESC;FMTTYPE=text/html:
LOCATION:Park City Ice Arena\, 600 Gillmor Way Park City\, Utah 84060
CLASS:PUBLIC
END:VEVENT
END:VCALENDAR
