BEGIN:VCALENDAR
VERSION:2.0
PRODID:Park City, UT Calendar Creator
METHOD:PUBLISH
BEGIN:VEVENT
DTSTAMP:20190415T122412
DTSTART:20190416T090000
DTEND:20190416T103000
SUMMARY:Joint Transit Advisory Board (JTAB)
DESCRIPTION:<p style="text-align: center;"><strong><span style="text-decoration: underline;">&nbsp;</span></strong></p><p style="text-align: center;"><strong><span style="text-decoration: underline;"></span></strong></p><p style="text-align: center;"><strong><span style="text-decoration: underline;">MEETING AGENDA</span> </strong></p><h3 style="text-align: center;">Park City and Summit County Joint Transit Advisory Board</h3><p><strong>MEETING DATE: April 16, 2019 </strong></p><p><strong>TIME: 9:00 am - 10:30 am </strong></p><p><strong>LOCATION: Park City Library - 1255 Park Avenue, Park City, UT. 84090. COMMUNITY ROOM, 3rd floor</strong></p><p>&nbsp;</p><p>&nbsp;I. Public Comment /Customer Feedback To allow time for others, please limit your comments to no more than five minutes per person. Comments made cannot be acted upon or discussed at this meeting, but may be placed on a future agenda for consideration. </p><p>II. Discussion Items </p><p style="margin-left: 40px;">a. Roll call </p><p style="margin-left: 40px;">b. Review and Acceptance of February, 2019 Meeting Minutes </p><p style="margin-left: 40px;">c. February/March Ridership reports – including Ecker Hill detail</p><p style="margin-left: 40px;">d. TSP updates</p><p style="margin-left: 40px;">e. Spring/Summer 2019 Service Planning Change</p><p style="margin-left: 40px;">f.&nbsp;2018 &amp; 2019 ‘Low No’ Grants</p><p style="margin-left: 40px;">g. Planning Processes: STIP, formula grants calendar, timelines, update to SRTDP</p><p style="margin-left: 40px;">h. Heber RFP update</p><p>III. Next Meeting </p><p>For those individuals with a disability who require a modification or accommodation in order to participate in the public meeting, please contact Alfred Knotts at (435) 615-5360 or alfred.knotts@parkcity.org or Caroline Rodriguez at 435.336.3113 or crodriguez@summitcounty.org </p><p><em>Utah Open Meeting Law Compliance Notice of this meeting has been given no less than 24 hours public notice of this meeting.</em></p><p>&nbsp;</p>
X-ALT-DESC;FMTTYPE=text/html:<p style="text-align: center;"><strong><span style="text-decoration: underline;">&nbsp;</span></strong></p><p style="text-align: center;"><strong><span style="text-decoration: underline;"></span></strong></p><p style="text-align: center;"><strong><span style="text-decoration: underline;">MEETING AGENDA</span> </strong></p><h3 style="text-align: center;">Park City and Summit County Joint Transit Advisory Board</h3><p><strong>MEETING DATE: April 16, 2019 </strong></p><p><strong>TIME: 9:00 am - 10:30 am </strong></p><p><strong>LOCATION: Park City Library - 1255 Park Avenue, Park City, UT. 84090. COMMUNITY ROOM, 3rd floor</strong></p><p>&nbsp;</p><p>&nbsp;I. Public Comment /Customer Feedback To allow time for others, please limit your comments to no more than five minutes per person. Comments made cannot be acted upon or discussed at this meeting, but may be placed on a future agenda for consideration. </p><p>II. Discussion Items </p><p style="margin-left: 40px;">a. Roll call </p><p style="margin-left: 40px;">b. Review and Acceptance of February, 2019 Meeting Minutes </p><p style="margin-left: 40px;">c. February/March Ridership reports – including Ecker Hill detail</p><p style="margin-left: 40px;">d. TSP updates</p><p style="margin-left: 40px;">e. Spring/Summer 2019 Service Planning Change</p><p style="margin-left: 40px;">f.&nbsp;2018 &amp; 2019 ‘Low No’ Grants</p><p style="margin-left: 40px;">g. Planning Processes: STIP, formula grants calendar, timelines, update to SRTDP</p><p style="margin-left: 40px;">h. Heber RFP update</p><p>III. Next Meeting </p><p>For those individuals with a disability who require a modification or accommodation in order to participate in the public meeting, please contact Alfred Knotts at (435) 615-5360 or alfred.knotts@parkcity.org or Caroline Rodriguez at 435.336.3113 or crodriguez@summitcounty.org </p><p><em>Utah Open Meeting Law Compliance Notice of this meeting has been given no less than 24 hours public notice of this meeting.</em></p><p>&nbsp;</p>
LOCATION:Library Community Room\, 1255 Park Avenue Park City\, Utah 84060
CLASS:PUBLIC
END:VEVENT
END:VCALENDAR
