BEGIN:VCALENDAR
VERSION:2.0
PRODID:Park City, UT Calendar Creator
METHOD:PUBLISH
BEGIN:VEVENT
DTSTAMP:20190418T132003
DTSTART:20190422T093000
DTEND:20190422T103000
SUMMARY:City Council Meeting
DESCRIPTION:<a href="https://www.parkcity.org/government/city-council/city-council-meetings/current-city-council-meeting-info-listen-live" target="_blank"></a><p align="left"><b>PUBLIC NOTICE IS HEREBY GIVEN </b><b>that a majority of the City Council may be attending a press event to celebrate Commitment to Clean Energy- HB 411 on Monday, April 22, 2019, 9:30 a.m. at the Electric Vehicle Charging Stations, 255 East 500 South, Salt Lake City, on the park strip between the sidewalk and the 500 South street side stalls. No City business will be conducted.</b></p>
X-ALT-DESC;FMTTYPE=text/html:<a href="https://www.parkcity.org/government/city-council/city-council-meetings/current-city-council-meeting-info-listen-live" target="_blank"></a><p align="left"><b>PUBLIC NOTICE IS HEREBY GIVEN </b><b>that a majority of the City Council may be attending a press event to celebrate Commitment to Clean Energy- HB 411 on Monday, April 22, 2019, 9:30 a.m. at the Electric Vehicle Charging Stations, 255 East 500 South, Salt Lake City, on the park strip between the sidewalk and the 500 South street side stalls. No City business will be conducted.</b></p>
LOCATION:City Council Chambers\, 445 Marsac Ave Park City\, Utah 84060
CLASS:PUBLIC
END:VEVENT
END:VCALENDAR
