BEGIN:VCALENDAR
VERSION:2.0
PRODID:Park City, UT Calendar Creator
METHOD:PUBLISH
BEGIN:VEVENT
DTSTAMP:20190418T132302
DTSTART:20190422T140000
DTEND:20190422T150000
SUMMARY:City Council Meeting
DESCRIPTION:<p align="left"><b>PUBLIC NOTICE IS HEREBY GIVEN that a majority of the City Council may be attending a ceremonial bill signing recognizing all of the legislation and appropriations designated to improve Utah's air quality on Monday, April 22, 2019, 2:00 p.m. at the Capitol Plaza, 350 North State Street, Salt Lake City. No City business will be conducted.</b></p>
X-ALT-DESC;FMTTYPE=text/html:<p align="left"><b>PUBLIC NOTICE IS HEREBY GIVEN that a majority of the City Council may be attending a ceremonial bill signing recognizing all of the legislation and appropriations designated to improve Utah's air quality on Monday, April 22, 2019, 2:00 p.m. at the Capitol Plaza, 350 North State Street, Salt Lake City. No City business will be conducted.</b></p>
LOCATION:Utah State Capitol\, 350 North State Street Salt Lake City\, Utah 84114
CLASS:PUBLIC
END:VEVENT
END:VCALENDAR
