BEGIN:VCALENDAR
VERSION:2.0
PRODID:Park City, UT Calendar Creator
METHOD:PUBLISH
BEGIN:VEVENT
DTSTAMP:20190618T103734
DTSTART:20190110T000000
DTEND:20190110T235900
SUMMARY:Joint Transit Advisory Board Meeting
DESCRIPTION:<br>
X-ALT-DESC;FMTTYPE=text/html:<br>
LOCATION:
CLASS:PUBLIC
END:VEVENT
END:VCALENDAR
