BEGIN:VCALENDAR
VERSION:2.0
PRODID:Park City, UT Calendar Creator
METHOD:PUBLISH
BEGIN:VEVENT
DTSTAMP:20190719T112740
DTSTART:20190729T080000
DTEND:20190804T210000
SUMMARY:Try Transit Week
DESCRIPTION:<p>Have you tried Park City Transit? It's fast, easy to use, and best of all, FREE! </p><p>Hop on the bus and join us for Try Transit Week. Park City and Summit County elected officials will be riding buses throughout the week handing out water canteens, gift cards to local businesses, and more! </p>
X-ALT-DESC;FMTTYPE=text/html:<p>Have you tried Park City Transit? It's fast, easy to use, and best of all, FREE! </p><p>Hop on the bus and join us for Try Transit Week. Park City and Summit County elected officials will be riding buses throughout the week handing out water canteens, gift cards to local businesses, and more! </p>
LOCATION:
CLASS:PUBLIC
END:VEVENT
END:VCALENDAR
