BEGIN:VCALENDAR
VERSION:2.0
PRODID:Park City, UT Calendar Creator
METHOD:PUBLISH
BEGIN:VEVENT
DTSTAMP:20190905T123839
DTSTART:20190913T083000
DTEND:20190913T100000
SUMMARY:Coffee with Council
DESCRIPTION:<p style="text-align: center;"></p>
X-ALT-DESC;FMTTYPE=text/html:<p style="text-align: center;"></p>
LOCATION:Park City Library\, 1255 Park Avenue Park City\, Utah 84060
CLASS:PUBLIC
END:VEVENT
END:VCALENDAR
