BEGIN:VCALENDAR
VERSION:2.0
PRODID:Park City, UT Calendar Creator
METHOD:PUBLISH
BEGIN:VEVENT
DTSTAMP:20190909T150612
DTSTART:20190918T170000
DTEND:20190918T183000
SUMMARY:Woodside Park, Phase I Open House
DESCRIPTION:<p style="text-align: center;"></p><p style="text-align: center;"></p>
X-ALT-DESC;FMTTYPE=text/html:<p style="text-align: center;"></p><p style="text-align: center;"></p>
LOCATION:Woodside Park\, Phase I\, 1333 Park Avenue Park City\, Utah 84060
CLASS:PUBLIC
END:VEVENT
END:VCALENDAR
