BEGIN:VCALENDAR
VERSION:2.0
PRODID:Park City, UT Calendar Creator
METHOD:PUBLISH
BEGIN:VEVENT
DTSTAMP:20190916T142745
DTSTART:20190924T170000
DTEND:20190924T183000
SUMMARY:Fall Projects Open House
DESCRIPTION:<p style="text-align: center;"></p>
X-ALT-DESC;FMTTYPE=text/html:<p style="text-align: center;"></p>
LOCATION:Park City Library - Community Room\, 1255 Park Avenue\, 3rd Floor Park City\, Utah 84060
CLASS:PUBLIC
END:VEVENT
END:VCALENDAR
