BEGIN:VCALENDAR
VERSION:2.0
PRODID:Park City, UT Calendar Creator
METHOD:PUBLISH
BEGIN:VEVENT
DTSTAMP:20191008T124752
DTSTART:20191203T170000
DTEND:20191203T190000
SUMMARY:Santa Skate
DESCRIPTION:
X-ALT-DESC;FMTTYPE=text/html:
LOCATION:Park City Ice Arena\, 600 Gillmor Way Park City\, Utah 84060
CLASS:PUBLIC
END:VEVENT
END:VCALENDAR
