BEGIN:VCALENDAR
VERSION:2.0
PRODID:Park City, UT Calendar Creator
METHOD:PUBLISH
BEGIN:VEVENT
DTSTAMP:20191028T135337
DTSTART:20191120T180000
DTEND:20191120T200000
SUMMARY:Park City Future Summit
DESCRIPTION:<p style="text-align: center;"><a href="https://www.parkcity.gov/home/showpublisheddocument/64821/637080388693070000" target="_blank"></a></p>
X-ALT-DESC;FMTTYPE=text/html:<p style="text-align: center;"><a href="https://www.parkcity.gov/home/showpublisheddocument/64821/637080388693070000" target="_blank"></a></p>
LOCATION:Park City Library - Santy Auditorium\, 1255 Park Ave Park City\, UT\, Utah 84060
CLASS:PUBLIC
END:VEVENT
END:VCALENDAR
