BEGIN:VCALENDAR
VERSION:2.0
PRODID:Park City, UT Calendar Creator
METHOD:PUBLISH
BEGIN:VEVENT
DTSTAMP:20191119T102848
DTSTART:20191202T180000
DTEND:20191202T190000
SUMMARY:Affordable/Attainable Housing Orientation
DESCRIPTION:<p style="text-align: center;">Learn more about affordable/attainable housing in Park City and the associated requirements <a href="https://www.parkcity.org/departments/find-affordable-housing/selection-process" target="_blank">here</a>.<a href="https://www.parkcity.gov/home/showpublisheddocument/64823/637078799239000000" target="_blank"><br></a></p><p style="text-align: center;"><a href="https://www.parkcity.gov/home/showpublisheddocument/64823/637078799239000000" target="_blank"></a></p>
X-ALT-DESC;FMTTYPE=text/html:<p style="text-align: center;">Learn more about affordable/attainable housing in Park City and the associated requirements <a href="https://www.parkcity.org/departments/find-affordable-housing/selection-process" target="_blank">here</a>.<a href="https://www.parkcity.gov/home/showpublisheddocument/64823/637078799239000000" target="_blank"><br></a></p><p style="text-align: center;"><a href="https://www.parkcity.gov/home/showpublisheddocument/64823/637078799239000000" target="_blank"></a></p>
LOCATION:Park City Library - Santy Auditorium\, 1255 Park Ave Park City\, UT\, Utah 84060
CLASS:PUBLIC
END:VEVENT
END:VCALENDAR
