BEGIN:VCALENDAR
VERSION:2.0
PRODID:Park City, UT Calendar Creator
METHOD:PUBLISH
BEGIN:VEVENT
DTSTAMP:20191107T102608
DTSTART:20191129T000000
DTEND:20191129T235900
SUMMARY:3 V 3 Turkey Tourney
DESCRIPTION:<a href="https://parkcityice.maxgalaxy.net/BrowseActivities.aspx" target="_blank"></a>
X-ALT-DESC;FMTTYPE=text/html:<a href="https://parkcityice.maxgalaxy.net/BrowseActivities.aspx" target="_blank"></a>
LOCATION:Park City Ice Arena\, 600 Gillmor Way Park City\, Utah 84060
CLASS:PUBLIC
END:VEVENT
END:VCALENDAR
