BEGIN:VCALENDAR
VERSION:2.0
PRODID:Park City, UT Calendar Creator
METHOD:PUBLISH
BEGIN:VEVENT
DTSTAMP:20191107T113151
DTSTART:20191129T093000
DTEND:20191129T123000
SUMMARY:Basic Skating Camp
DESCRIPTION:
X-ALT-DESC;FMTTYPE=text/html:
LOCATION:Park City Ice Arena\, 600 Gillmor Way Park City\, Utah 84060
CLASS:PUBLIC
END:VEVENT
END:VCALENDAR
