BEGIN:VCALENDAR
VERSION:2.0
PRODID:Park City, UT Calendar Creator
METHOD:PUBLISH
BEGIN:VEVENT
DTSTAMP:20191202T131226
DTSTART:20200109T173000
DTEND:20200109T203000
SUMMARY:First-Time Homebuyer Workshop, Part 2
DESCRIPTION:<p style="text-align: center;">Learn more about affordable/attainable housing in Park City and the associated requirements <a href="https://www.parkcity.org/departments/find-affordable-housing/selection-process" target="_blank">here</a>.<a href="https://www.parkcity.gov/home/showpublisheddocument/64823/637078799239000000" target="_blank"><br></a></p><p style="text-align: center;"></p>
X-ALT-DESC;FMTTYPE=text/html:<p style="text-align: center;">Learn more about affordable/attainable housing in Park City and the associated requirements <a href="https://www.parkcity.org/departments/find-affordable-housing/selection-process" target="_blank">here</a>.<a href="https://www.parkcity.gov/home/showpublisheddocument/64823/637078799239000000" target="_blank"><br></a></p><p style="text-align: center;"></p>
LOCATION:Blair Education Center at Park City Hospital\, 900 Round Valley Drive Park City\, Utah 84060
CLASS:PUBLIC
END:VEVENT
END:VCALENDAR
