BEGIN:VCALENDAR
VERSION:2.0
PRODID:Park City, UT Calendar Creator
METHOD:PUBLISH
BEGIN:VEVENT
DTSTAMP:20191211T154206
DTSTART:20200114T180000
DTEND:20200114T190000
SUMMARY:Affordable/Attainable Housing Orientation
DESCRIPTION:<p style="text-align: center;"></p>
X-ALT-DESC;FMTTYPE=text/html:<p style="text-align: center;"></p>
LOCATION:Park City Library - Santy Auditorium\, 1255 Park Ave Park City\, UT\, Utah 84060
CLASS:PUBLIC
END:VEVENT
END:VCALENDAR
