BEGIN:VCALENDAR
VERSION:2.0
PRODID:Park City, UT Calendar Creator
METHOD:PUBLISH
BEGIN:VEVENT
DTSTAMP:20200103T110633
DTSTART:20200208T180000
DTEND:20200208T210000
SUMMARY:Full Moon Snowshoe at McPolin Farm
DESCRIPTION:<p><strong>Saturday, February 8, 2020 - &nbsp;6:00 p.m. - 9:00 p.m.</strong></p><p>This event includes a delicious dinner by Dalton Campbell and Will Baxter Band for your listening and dancing pleasure. The evening ends with a full moon snowshoe tour for both beginners and intermediate/advanced, all for $30 per person. Transportation provided from the PC MARC. Snowshoes provided as needed courtesy of White Pine Touring. Dinner will be served at 6:30 p.m., music until 8:00 then it's out the door to snowshoe!<br><br>Tickets must be purchased online in advance through the PC MARC:&nbsp;<a href="https://secure.rec1.com/UT/park-city-ut/catalog">https://secure.rec1.com/UT/park-city-ut/catalog</a>&nbsp;under 'McPolin Farm Events' in blue.</p><p>Questions? Email minda.stockdale@parkcity.org or call 435.615.5186 or the PC MARC at 435.615.5401. See you at the Farm!!</p>
X-ALT-DESC;FMTTYPE=text/html:<p><strong>Saturday, February 8, 2020 - &nbsp;6:00 p.m. - 9:00 p.m.</strong></p><p>This event includes a delicious dinner by Dalton Campbell and Will Baxter Band for your listening and dancing pleasure. The evening ends with a full moon snowshoe tour for both beginners and intermediate/advanced, all for $30 per person. Transportation provided from the PC MARC. Snowshoes provided as needed courtesy of White Pine Touring. Dinner will be served at 6:30 p.m., music until 8:00 then it's out the door to snowshoe!<br><br>Tickets must be purchased online in advance through the PC MARC:&nbsp;<a href="https://secure.rec1.com/UT/park-city-ut/catalog">https://secure.rec1.com/UT/park-city-ut/catalog</a>&nbsp;under 'McPolin Farm Events' in blue.</p><p>Questions? Email minda.stockdale@parkcity.org or call 435.615.5186 or the PC MARC at 435.615.5401. See you at the Farm!!</p>
LOCATION:McPolin Farm\, 3000 Hwy 224 Park City\, Utah 84060
CLASS:PUBLIC
END:VEVENT
END:VCALENDAR
