BEGIN:VCALENDAR
VERSION:2.0
PRODID:Park City, UT Calendar Creator
METHOD:PUBLISH
BEGIN:VEVENT
DTSTAMP:20200115T223326
DTSTART:20200124T074500
DTEND:20200124T090000
SUMMARY:Sled Hockey
DESCRIPTION:<a href="https://www.parkcity.gov/home/showpublisheddocument/65189/637340657252270000" target="_blank">2019-Sled Hockey Final</a>
X-ALT-DESC;FMTTYPE=text/html:<a href="https://www.parkcity.gov/home/showpublisheddocument/65189/637340657252270000" target="_blank">2019-Sled Hockey Final</a>
LOCATION:Park City Ice Arena\, 600 Gillmor Way Park City\, Utah 84060
CLASS:PUBLIC
END:VEVENT
END:VCALENDAR
