BEGIN:VCALENDAR
VERSION:2.0
PRODID:Park City, UT Calendar Creator
METHOD:PUBLISH
BEGIN:VEVENT
DTSTAMP:20200116T102441
DTSTART:20200220T173000
DTEND:20200220T193000
SUMMARY:Curling Drop-IN
DESCRIPTION:
X-ALT-DESC;FMTTYPE=text/html:
LOCATION:Park City Ice Arena\, 600 Gillmor Way Park City\, Utah 84060
CLASS:PUBLIC
END:VEVENT
END:VCALENDAR
