BEGIN:VCALENDAR
VERSION:2.0
PRODID:Park City, UT Calendar Creator
METHOD:PUBLISH
BEGIN:VEVENT
DTSTAMP:20200211T114910
DTSTART:20200220T120000
DTEND:20200220T130000
SUMMARY:Administrative Action Meeting
DESCRIPTION:<p><a href="https://www.parkcity.gov/home/showpublisheddocument/65295/637170184859100000" target="_blank">352 Woodside - Administrative Action 2.20</a>&nbsp;</p><p>&nbsp;</p><p>&nbsp;</p><br>
X-ALT-DESC;FMTTYPE=text/html:<p><a href="https://www.parkcity.gov/home/showpublisheddocument/65295/637170184859100000" target="_blank">352 Woodside - Administrative Action 2.20</a>&nbsp;</p><p>&nbsp;</p><p>&nbsp;</p><br>
LOCATION:Planning Department Conference Room\, 445 Marsac Ave Park City\, Utah 84060
CLASS:PUBLIC
END:VEVENT
END:VCALENDAR
