BEGIN:VCALENDAR
VERSION:2.0
PRODID:Park City, UT Calendar Creator
METHOD:PUBLISH
BEGIN:VEVENT
DTSTAMP:20200303T090007
DTSTART:20200317T120000
DTEND:20200317T130000
SUMMARY:Administrative Permit Determination
DESCRIPTION:<a href="https://www.parkcity.gov/home/showpublisheddocument/65328/637340671423500000" target="_blank">Administrative Permit Determination</a>
X-ALT-DESC;FMTTYPE=text/html:<a href="https://www.parkcity.gov/home/showpublisheddocument/65328/637340671423500000" target="_blank">Administrative Permit Determination</a>
LOCATION:
CLASS:PUBLIC
END:VEVENT
END:VCALENDAR
