BEGIN:VCALENDAR
VERSION:2.0
PRODID:Park City, UT Calendar Creator
METHOD:PUBLISH
BEGIN:VEVENT
DTSTAMP:20200417T172648
DTSTART:20200306T110000
DTEND:20200306T120000
SUMMARY:Administrative Action Meeting
DESCRIPTION:<p><a href="https://www.parkcity.gov/home/showpublisheddocument/66512" target="_blank">PL-20-04479 2392 Holiday Ranch Loop - Admin. CUP Action Letter 4.15.20</a></p><p><a href="https://www.parkcity.gov/home/showpublisheddocument/66506" target="_blank">Exhibit A - Approved Plans, Original Project Description, and Updated Project Description Submitted March 13, 2020</a></p><p><a href="https://www.parkcity.gov/home/showpublisheddocument/66508" target="_blank">Exhibit B - Public Comment</a></p><p><a href="https://www.parkcity.gov/home/showpublisheddocument/66510" target="_blank">Exhibit C - Wildlife Organization Responses</a></p><p>&nbsp;</p>
X-ALT-DESC;FMTTYPE=text/html:<p><a href="https://www.parkcity.gov/home/showpublisheddocument/66512" target="_blank">PL-20-04479 2392 Holiday Ranch Loop - Admin. CUP Action Letter 4.15.20</a></p><p><a href="https://www.parkcity.gov/home/showpublisheddocument/66506" target="_blank">Exhibit A - Approved Plans, Original Project Description, and Updated Project Description Submitted March 13, 2020</a></p><p><a href="https://www.parkcity.gov/home/showpublisheddocument/66508" target="_blank">Exhibit B - Public Comment</a></p><p><a href="https://www.parkcity.gov/home/showpublisheddocument/66510" target="_blank">Exhibit C - Wildlife Organization Responses</a></p><p>&nbsp;</p>
LOCATION:City Council Chambers\, 445 Marsac Ave Park City\, Utah 84060
CLASS:PUBLIC
END:VEVENT
END:VCALENDAR
