BEGIN:VCALENDAR
VERSION:2.0
PRODID:Park City, UT Calendar Creator
METHOD:PUBLISH
BEGIN:VEVENT
DTSTAMP:20200604T123512
DTSTART:20200713T000000
DTEND:20200717T235900
SUMMARY:Park City High Performance Camp
DESCRIPTION:<h2><strong><sub><a href="https://parkcityice.maxgalaxy.net/BrowseActivities.aspx" target="_blank">Register Now!</a></sub></strong></h2>
X-ALT-DESC;FMTTYPE=text/html:<h2><strong><sub><a href="https://parkcityice.maxgalaxy.net/BrowseActivities.aspx" target="_blank">Register Now!</a></sub></strong></h2>
LOCATION:Park City Ice Arena\, 600 Gillmor Way Park City\, Utah 84060
CLASS:PUBLIC
END:VEVENT
END:VCALENDAR
