BEGIN:VCALENDAR
VERSION:2.0
PRODID:Park City, UT Calendar Creator
METHOD:PUBLISH
BEGIN:VEVENT
DTSTAMP:20201023T090126
DTSTART:20200923T173000
DTEND:20200923T213000
SUMMARY:Planning Commission Meeting
DESCRIPTION:<p><a href="https://www.parkcity.gov/home/showpublisheddocument/69062/637353408567730000" target="_blank">PC Legal Notice 09.23.2020</a><br><a href="https://granicus_production_attachments.s3.amazonaws.com/parkcity/992b378ab819113cb92330964e5c507e0.pdf" target="_blank">PC Agenda 09.23.2020</a><br><a href="https://d3n9y02raazwpg.cloudfront.net/parkcity/c3c8aa0b-0af5-11ea-8baa-0050569183fa-c4068590-9596-4beb-bbf4-f1687d834ed4-1600464492.pdf" target="_blank">PC Packet 09.23.2020</a><br><a href="https://parkcity.granicus.com/DocumentViewer.php?file=parkcity_e430d503e439cf6825838776126ba826.pdf&amp;view=1" target="_blank">PC Minutes 09.23.2020</a></p><p>&nbsp;</p><h2>How to Watch, Listen, and Submit Public Comment Virtually:</h2><ul>    <li>Listen | Watch | Submit <a href="https://parkcity.granicusideas.com/meetings/525-planning-commission" target="_blank">eComment</a>: Details <a href="https://www.parkcity.org/government/city-council/city-council-meetings/current-public-meeting-info-listen-live" target="_blank">here</a>. Watch and Listen Live link is activated at the start of the meeting<i>. </i><i><br>    *Advance&nbsp;<a href="https://parkcity.granicusideas.com/users/sign_up">eComment registration</a>&nbsp;required. Once registered, you should receive a confirmation email. Using Firefox or Microsoft Edge browsers to register is recommended.<br>    <br>    </i></li>    <li>Listen | Watch | Comment:&nbsp;<a href="https://us02web.zoom.us/j/85192847218" target="_blank">Zoom Webinar</a>&nbsp;(please log in using the Zoom app to submit comment)</li></ul><p>If you want to speak during a public hearing or share a general comment, you may also participate by raising your hand on&nbsp;<a href="https://us02web.zoom.us/j/85192847218" target="_blank">Zoom Webinar</a>. <strong><strong>Viewers who wish to provide public comment must sign in using their full names.</strong> Anonymous comments will not be accepted. </strong>Comments will be taken in the order they are received and will be entered into the public record.<strong><strong>&nbsp;</strong></strong></p><p>All agenda-related and general comments received by email, eComment and Zoom Webinar are shared with the Planning Commission members and added to the public meeting record.</p><p>Please contact&nbsp;<a href="mailto:&#106;&#101;&#115;&#115;&#105;&#99;&#97;&#46;&#110;&#101;&#108;&#115;&#111;&#110;&#64;&#112;&#97;&#114;&#107;&#99;&#105;&#116;&#121;&#46;&#111;&#114;&#103;">jessica.nelson@parkcity.org</a>&nbsp;for more information.</p><p>For assistance with accessing the Zoom Webinar, please contact&nbsp;<a href="mailto:&#108;&#105;&#110;&#100;&#97;&#46;&#106;&#97;&#103;&#101;&#114;&#64;&#112;&#97;&#114;&#107;&#99;&#105;&#116;&#121;&#46;&#111;&#114;&#103;">linda.jager@parkcity.org</a>&nbsp;| 435.901.2311</p><br>
X-ALT-DESC;FMTTYPE=text/html:<p><a href="https://www.parkcity.gov/home/showpublisheddocument/69062/637353408567730000" target="_blank">PC Legal Notice 09.23.2020</a><br><a href="https://granicus_production_attachments.s3.amazonaws.com/parkcity/992b378ab819113cb92330964e5c507e0.pdf" target="_blank">PC Agenda 09.23.2020</a><br><a href="https://d3n9y02raazwpg.cloudfront.net/parkcity/c3c8aa0b-0af5-11ea-8baa-0050569183fa-c4068590-9596-4beb-bbf4-f1687d834ed4-1600464492.pdf" target="_blank">PC Packet 09.23.2020</a><br><a href="https://parkcity.granicus.com/DocumentViewer.php?file=parkcity_e430d503e439cf6825838776126ba826.pdf&amp;view=1" target="_blank">PC Minutes 09.23.2020</a></p><p>&nbsp;</p><h2>How to Watch, Listen, and Submit Public Comment Virtually:</h2><ul>    <li>Listen | Watch | Submit <a href="https://parkcity.granicusideas.com/meetings/525-planning-commission" target="_blank">eComment</a>: Details <a href="https://www.parkcity.org/government/city-council/city-council-meetings/current-public-meeting-info-listen-live" target="_blank">here</a>. Watch and Listen Live link is activated at the start of the meeting<i>. </i><i><br>    *Advance&nbsp;<a href="https://parkcity.granicusideas.com/users/sign_up">eComment registration</a>&nbsp;required. Once registered, you should receive a confirmation email. Using Firefox or Microsoft Edge browsers to register is recommended.<br>    <br>    </i></li>    <li>Listen | Watch | Comment:&nbsp;<a href="https://us02web.zoom.us/j/85192847218" target="_blank">Zoom Webinar</a>&nbsp;(please log in using the Zoom app to submit comment)</li></ul><p>If you want to speak during a public hearing or share a general comment, you may also participate by raising your hand on&nbsp;<a href="https://us02web.zoom.us/j/85192847218" target="_blank">Zoom Webinar</a>. <strong><strong>Viewers who wish to provide public comment must sign in using their full names.</strong> Anonymous comments will not be accepted. </strong>Comments will be taken in the order they are received and will be entered into the public record.<strong><strong>&nbsp;</strong></strong></p><p>All agenda-related and general comments received by email, eComment and Zoom Webinar are shared with the Planning Commission members and added to the public meeting record.</p><p>Please contact&nbsp;<a href="mailto:&#106;&#101;&#115;&#115;&#105;&#99;&#97;&#46;&#110;&#101;&#108;&#115;&#111;&#110;&#64;&#112;&#97;&#114;&#107;&#99;&#105;&#116;&#121;&#46;&#111;&#114;&#103;">jessica.nelson@parkcity.org</a>&nbsp;for more information.</p><p>For assistance with accessing the Zoom Webinar, please contact&nbsp;<a href="mailto:&#108;&#105;&#110;&#100;&#97;&#46;&#106;&#97;&#103;&#101;&#114;&#64;&#112;&#97;&#114;&#107;&#99;&#105;&#116;&#121;&#46;&#111;&#114;&#103;">linda.jager@parkcity.org</a>&nbsp;| 435.901.2311</p><br>
LOCATION:Virtual - Online Only\, 
CLASS:PUBLIC
END:VEVENT
END:VCALENDAR
