BEGIN:VCALENDAR
VERSION:2.0
PRODID:Park City, UT Calendar Creator
METHOD:PUBLISH
BEGIN:VEVENT
DTSTAMP:20201001T125245
DTSTART:20201001T120000
DTEND:20201001T130000
SUMMARY:Electronic Administrative Permit Hearing - Continued to October 6, 2020
DESCRIPTION:<a href="https://www.parkcity.gov/home/showpublisheddocument/69108/637362881175200000" target="_blank">Public Notice 9.21.20</a>
X-ALT-DESC;FMTTYPE=text/html:<a href="https://www.parkcity.gov/home/showpublisheddocument/69108/637362881175200000" target="_blank">Public Notice 9.21.20</a>
LOCATION:
CLASS:PUBLIC
END:VEVENT
END:VCALENDAR
