BEGIN:VCALENDAR
VERSION:2.0
PRODID:Park City, UT Calendar Creator
METHOD:PUBLISH
BEGIN:VEVENT
DTSTAMP:20201009T101131
DTSTART:20201016T120000
DTEND:20201016T123000
SUMMARY:Planning Department Administrative Hearing PL-20-04657
DESCRIPTION:<a href="https://d3n9y02raazwpg.cloudfront.net/parkcity/947b45ee-0822-11eb-80dd-0050569183fa-498f0572-cec6-4358-a08d-4ae1e1ac1484-1602029641.pdf" target="_blank">Meeting notice and proposal.&nbsp;</a>
X-ALT-DESC;FMTTYPE=text/html:<a href="https://d3n9y02raazwpg.cloudfront.net/parkcity/947b45ee-0822-11eb-80dd-0050569183fa-498f0572-cec6-4358-a08d-4ae1e1ac1484-1602029641.pdf" target="_blank">Meeting notice and proposal.&nbsp;</a>
LOCATION:
CLASS:PUBLIC
END:VEVENT
END:VCALENDAR
