BEGIN:VCALENDAR
VERSION:2.0
PRODID:Park City, UT Calendar Creator
METHOD:PUBLISH
BEGIN:VEVENT
DTSTAMP:20201009T133405
DTSTART:20201009T130000
DTEND:20201009T140000
SUMMARY:UAV Flight
DESCRIPTION:<p>UAV Flight</p><p>Where: Three Kings Water Treatment Plant</p><p>Duration: 30 minutes</p><p>Contact: drone@parkcity.org</p>
X-ALT-DESC;FMTTYPE=text/html:<p>UAV Flight</p><p>Where: Three Kings Water Treatment Plant</p><p>Duration: 30 minutes</p><p>Contact: drone@parkcity.org</p>
LOCATION:
CLASS:PUBLIC
END:VEVENT
END:VCALENDAR
