BEGIN:VCALENDAR
VERSION:2.0
PRODID:Park City, UT Calendar Creator
METHOD:PUBLISH
BEGIN:VEVENT
DTSTAMP:20201023T141728
DTSTART:20201026T120000
DTEND:20201026T123000
SUMMARY:Planning Department Administrative Hearing PL-20-04647
DESCRIPTION:<p><a href="https://www.parkcity.gov/home/showpublisheddocument/69202/637383725849370000" target="_blank">Legal Notice</a></p><p><a href="https://d3n9y02raazwpg.cloudfront.net/parkcity/a2c5d0e9-0f2b-11eb-80dd-0050569183fa-498f0572-cec6-4358-a08d-4ae1e1ac1484-1603484047.pdf" target="_blank">Proposal and Plans</a></p>
X-ALT-DESC;FMTTYPE=text/html:<p><a href="https://www.parkcity.gov/home/showpublisheddocument/69202/637383725849370000" target="_blank">Legal Notice</a></p><p><a href="https://d3n9y02raazwpg.cloudfront.net/parkcity/a2c5d0e9-0f2b-11eb-80dd-0050569183fa-498f0572-cec6-4358-a08d-4ae1e1ac1484-1603484047.pdf" target="_blank">Proposal and Plans</a></p>
LOCATION:
CLASS:PUBLIC
END:VEVENT
END:VCALENDAR
