BEGIN:VCALENDAR
VERSION:2.0
PRODID:Park City, UT Calendar Creator
METHOD:PUBLISH
BEGIN:VEVENT
DTSTAMP:20201029T112154
DTSTART:20201029T130000
DTEND:20201029T133000
SUMMARY:UAV Flight
DESCRIPTION:<p>Location: 3 Kings Water Treatment Plant</p><p>Duration: 30 minute</p><p>Contact: Drone@parkcity.org</p>
X-ALT-DESC;FMTTYPE=text/html:<p>Location: 3 Kings Water Treatment Plant</p><p>Duration: 30 minute</p><p>Contact: Drone@parkcity.org</p>
LOCATION:
CLASS:PUBLIC
END:VEVENT
END:VCALENDAR
