BEGIN:VCALENDAR
VERSION:2.0
PRODID:Park City, UT Calendar Creator
METHOD:PUBLISH
BEGIN:VEVENT
DTSTAMP:20210115T154538
DTSTART:20201216T173000
DTEND:20201216T213000
SUMMARY:Planning Commission Meeting
DESCRIPTION:<p><a href="https://www.parkcity.gov/home/showpublisheddocument/69472/637426120706600000" target="_blank">PC Legal Notice 12.16.2020</a><br><a href="https://granicus_production_attachments.s3.amazonaws.com/parkcity/ce661270c2891389fd41066b217137200.pdf" target="_blank">PC Agenda 12.16.2020</a><br><a href="https://d3n9y02raazwpg.cloudfront.net/parkcity/d2ac1117-33f8-11eb-bc32-0050569183fa-c4068590-9596-4beb-bbf4-f1687d834ed4-1607728943.pdf" target="_blank">PC Packet 12.16.2020</a><br><a href="https://parkcity.granicus.com/DocumentViewer.php?file=parkcity_be362a31ccfbf71c2f1b277bfd3197db.pdf&amp;view=1" target="_blank">PC Minutes 12.06.2020</a></p><p>How to Watch, Listen, and Submit Public Comment Virtually:</p><ul type="disc">    <li>Listen | Watch | Submit&nbsp;<a href="https://parkcity.granicusideas.com/meetings/630-planning-commission" target="_blank">eComment</a>: Details <a href="https://www.parkcity.org/government/city-council/city-council-meetings/current-public-meeting-info-listen-live" target="_blank">here</a> (Watch and Listen Live link is activated at the start of the meeting<i>)<br>    *Advance&nbsp;<a href="https://parkcity.granicusideas.com/users/sign_up">eComment registration</a>&nbsp;required. Once registered, you should receive a confirmation email. Using Firefox or Microsoft Edge browsers to register is recommended.<br>    <br>    </i></li>    <li>Listen | Watch | Comment:&nbsp;<a href="https://us02web.zoom.us/j/81048151248" target="_blank">Zoom Webinar</a>&nbsp;(please log in using the Zoom app to submit comment)</li></ul><p>To comment virtually, raise your hand on Zoom. Written comments submitted before or during the meeting will be entered into the public record, but not read aloud.&nbsp;<b>Viewers who wish to provide public comment must sign in using their full names.&nbsp;Anonymous comments will not be accepted.</b></p><p>Please contact&nbsp;<a href="mailto:&#106;&#101;&#115;&#115;&#105;&#99;&#97;&#46;&#110;&#101;&#108;&#115;&#111;&#110;&#64;&#112;&#97;&#114;&#107;&#99;&#105;&#116;&#121;&#46;&#111;&#114;&#103;">jessica.nelson@parkcity.org</a>&nbsp;for more information.</p><p>For assistance with accessing the Zoom Webinar, please contact&nbsp;<a href="mailto:&#108;&#105;&#110;&#100;&#97;&#46;&#106;&#97;&#103;&#101;&#114;&#64;&#112;&#97;&#114;&#107;&#99;&#105;&#116;&#121;&#46;&#111;&#114;&#103;">linda.jager@parkcity.org</a>&nbsp;| 435.901.2311</p>
X-ALT-DESC;FMTTYPE=text/html:<p><a href="https://www.parkcity.gov/home/showpublisheddocument/69472/637426120706600000" target="_blank">PC Legal Notice 12.16.2020</a><br><a href="https://granicus_production_attachments.s3.amazonaws.com/parkcity/ce661270c2891389fd41066b217137200.pdf" target="_blank">PC Agenda 12.16.2020</a><br><a href="https://d3n9y02raazwpg.cloudfront.net/parkcity/d2ac1117-33f8-11eb-bc32-0050569183fa-c4068590-9596-4beb-bbf4-f1687d834ed4-1607728943.pdf" target="_blank">PC Packet 12.16.2020</a><br><a href="https://parkcity.granicus.com/DocumentViewer.php?file=parkcity_be362a31ccfbf71c2f1b277bfd3197db.pdf&amp;view=1" target="_blank">PC Minutes 12.06.2020</a></p><p>How to Watch, Listen, and Submit Public Comment Virtually:</p><ul type="disc">    <li>Listen | Watch | Submit&nbsp;<a href="https://parkcity.granicusideas.com/meetings/630-planning-commission" target="_blank">eComment</a>: Details <a href="https://www.parkcity.org/government/city-council/city-council-meetings/current-public-meeting-info-listen-live" target="_blank">here</a> (Watch and Listen Live link is activated at the start of the meeting<i>)<br>    *Advance&nbsp;<a href="https://parkcity.granicusideas.com/users/sign_up">eComment registration</a>&nbsp;required. Once registered, you should receive a confirmation email. Using Firefox or Microsoft Edge browsers to register is recommended.<br>    <br>    </i></li>    <li>Listen | Watch | Comment:&nbsp;<a href="https://us02web.zoom.us/j/81048151248" target="_blank">Zoom Webinar</a>&nbsp;(please log in using the Zoom app to submit comment)</li></ul><p>To comment virtually, raise your hand on Zoom. Written comments submitted before or during the meeting will be entered into the public record, but not read aloud.&nbsp;<b>Viewers who wish to provide public comment must sign in using their full names.&nbsp;Anonymous comments will not be accepted.</b></p><p>Please contact&nbsp;<a href="mailto:&#106;&#101;&#115;&#115;&#105;&#99;&#97;&#46;&#110;&#101;&#108;&#115;&#111;&#110;&#64;&#112;&#97;&#114;&#107;&#99;&#105;&#116;&#121;&#46;&#111;&#114;&#103;">jessica.nelson@parkcity.org</a>&nbsp;for more information.</p><p>For assistance with accessing the Zoom Webinar, please contact&nbsp;<a href="mailto:&#108;&#105;&#110;&#100;&#97;&#46;&#106;&#97;&#103;&#101;&#114;&#64;&#112;&#97;&#114;&#107;&#99;&#105;&#116;&#121;&#46;&#111;&#114;&#103;">linda.jager@parkcity.org</a>&nbsp;| 435.901.2311</p>
LOCATION:
CLASS:PUBLIC
END:VEVENT
END:VCALENDAR
